BEGIN:VCALENDAR
BEGIN:VEVENT
DTSTART:20260531T070000Z
DTEND:20260602T070000Z
LOCATION:4010 Whistler Way, Whistler, BC
SEQUENCE:0
TRANSP:TRANSPARENT
CATEGORIES:Karelo\.com Event
DESCRIPTION:%3Cp+style%3D%22text-align%3Acenter%22%3E%3Ca+href%3D%22https%3A%2F%2Fwww.karelo.com%2Fuploads%2FKC32%2FBID706%2Fimages%2FBC2026Karelo%281%29.png%22+style%3D%22color%3A+rgb%287%2C+130%2C+193%29%3B+font-family%3A+sans-serif%2C+Arial%2C+Verdana%2C+%26quot%3BTrebuchet+MS%26quot%3B%3B+font-size%3A+13px%3B+text-align%3A+center%3B+background-color%3A+rgb%28255%2C+255%2C+255%29%3B%22%3E%3Cimg+alt%3D...
SUMMARY:CHES-BC: 2026 BC Trade Show &amp; Education Forum - DELEGATES
PRIORITY:5
END:VEVENT
END:VCALENDAR
