BEGIN:VCALENDAR
BEGIN:VEVENT
DTSTART:20260518T040000Z
DTEND:20260518T040000Z
LOCATION:Cambridge, ON
SEQUENCE:0
TRANSP:TRANSPARENT
CATEGORIES:Karelo\.com Event
DESCRIPTION:%3Cp%3E%3Cstrong%3E1.8+REGISTRATION%3C%2Fstrong%3E%3Cbr+%2F%3E.1+Registration+Opens%3A+Tuesday%2C+September+3%2C+2025.%3Cbr+%2F%3E.2+Registration+Closes%3A%3Cbr+%2F%3E++++++++a.+Group+A%3A+Wednesday+April+1st%2C+2026+at+5PM%3Cbr+%2F%3E++++++++b.+Group+B%3A+Monday%2C+May+11th%2C+2026+at+Midnight%3Cbr+%2F%3E.3+Fee%3A+%2425.00.+Register+on+Karelo+%28%3Ca+href%3D%22http%3A%2F%2Fwww.karelo.com%2F%...
SUMMARY:CSC Grand Valley Chapter: CSC Grand Valley Student Design Challenge 2026
PRIORITY:5
END:VEVENT
END:VCALENDAR
