BEGIN:VCALENDAR
BEGIN:VEVENT
DTSTART:20260805T050000Z
DTEND:20260805T050000Z
LOCATION:Quarry Oaks Golf &amp; Country Club, Steinbach, MB
SEQUENCE:0
TRANSP:TRANSPARENT
CATEGORIES:Karelo\.com Event
DESCRIPTION:%3Cdiv+style%3D%22box-sizing%3A+border-box%3B+font-family%3A+Calibri%2C+Verdana%2C+Helvetica%2C+sans-serif%3B+font-size%3A+18px%3B%22%3E%3Cstrong%3E%3Cspan+style%3D%22color%3Ablack%3B+font-size%3A11pt%22%3EAugust+5%2C+2026%3C%2Fspan%3E%3C%2Fstrong%3E%3C%2Fdiv%3E%3Cdiv+style%3D%22box-sizing%3A+border-box%3B+font-family%3A+Calibri%2C+Verdana%2C+Helvetica%2C+sans-serif%3B+font-size%3A+18px%3B%22...
SUMMARY:CSC Winnipeg Chapter: 2026-08-05 CSC Winnipeg Chapter Golf Tournament 2026
PRIORITY:5
END:VEVENT
END:VCALENDAR
