BEGIN:VCALENDAR
BEGIN:VEVENT
DTSTART:20260805T050000Z
DTEND:20260805T050000Z
LOCATION:Quarry Oaks Golf &amp; Country Club, Steinbach, MB
SEQUENCE:0
TRANSP:TRANSPARENT
CATEGORIES:Karelo\.com Event
DESCRIPTION:%3Cp%3ETournament+is+scheduled+for+%3Cstrong%3EAugust+5%2C+2026+at+Quarry+Oaks+Golf+%26amp%3B+Country+Club+%28Steinbach+Area%29%3C%2Fstrong%3E%3C%2Fp%3E%3Cp%3E%3Cstrong%3ECSC+Winnipeg+Chapter+Golf+Tournament+%3C%2Fstrong%3E%3C%2Fp%3E%3Cp%3E%3Cstrong%3EA+very+big+part+of+the+success+of+our+tournament+is+through+the+funds+raised+by+the+generous+people+and+companies+who+provide+sponsorship+%3C%2...
SUMMARY:CSC Winnipeg Chapter: 2026-08-05  SPONSORSHIP CSC Winnipeg Chapter Golf Tournament 2026
PRIORITY:5
END:VEVENT
END:VCALENDAR
