BEGIN:VCALENDAR
BEGIN:VEVENT
DTSTART:20260509T170000Z
DTEND:20260509T200000Z
LOCATION:Falaise Ave, Garrison, Sturgeon County, AB
SEQUENCE:0
TRANSP:TRANSPARENT
CATEGORIES:Karelo\.com Event
DESCRIPTION:%3Cp+dir%3D%22ltr%22%3EWe%27ll+ride+a+loop+from+the+Garrison+to+Bon+Accord.%3C%2Fp%3E%3Cp%3EWe+will+move+at+a+pace+sufficient+to+complete+the+distance+in+a+reasonable+time%2C+but+we+are+not+racers%3B+we%27re+recreational+riders.+We+will+regroup+periodically+for+short+breaks.%3C%2Fp%3E%3Cp%3ERiders+must+be+able+to+self-navigate+with+the+route+maps+%28RWGPS%29.%3C%2Fp%3E%3Cp%3EAfter+the+ride%2C...
SUMMARY:Edmonton Bicycle and Touring Club: Target the Tour 100
PRIORITY:5
END:VEVENT
END:VCALENDAR
