BEGIN:VCALENDAR
BEGIN:VEVENT
DTSTART:20260516T160000Z
DTEND:20260516T190000Z
LOCATION:5900 50 St, Beaumont, AB
SEQUENCE:0
TRANSP:TRANSPARENT
CATEGORIES:Karelo\.com Event
DESCRIPTION:%3Cp+dir%3D%22ltr%22%3ENOTE%3A+We%27re+starting+at+10+am+as+the+mornings+are+getting+warmer+and+the+distance+increases.%3C%2Fp%3E%3Cp%3EWe%27re+half+way+to+100+km%2C+riding+from+Beaumont+McDonalds+today.%3C%2Fp%3E%3Cp%3EWe+will+regroup+periodically+for+short+breaks.%3C%2Fp%3E%3Cp%3ERiders+must+be+able+to+self-navigate+with+the+route+maps+%28RWGPS%29.%3C%2Fp%3E%3Cp%3EAfter+the+ride%2C+stick+ar...
SUMMARY:Edmonton Bicycle and Touring Club: Target the Tour 100
PRIORITY:5
END:VEVENT
END:VCALENDAR
