BEGIN:VCALENDAR
BEGIN:VEVENT
DTSTART:20260512T170000Z
DTEND:20260512T190000Z
LOCATION:St. Peter Catholic Church, Velleneuve, AB
SEQUENCE:0
TRANSP:TRANSPARENT
CATEGORIES:Karelo\.com Event
DESCRIPTION:%3Cp%3EToday+we+meet++in+Villeneuve+at+St.+Peter%26rsquo%3Bs+Catholic+Church+parking+lot+at+10%3A45+with+a+prompt+11%3A00+start.+Yeah%21+Hills%2C+we+will+cycle+through+the+Glory+hills+to+Glacier+Greens+Golf+course+where+we+will+take+a+short+break%2C+coffee+and+snacks+available+for+purchase.+We+will+then+return+to+Villeneuve+via+RR779.+Distance+is+31K+at+18KPM.+All+well+maintained+bikes+welcom...
SUMMARY:Edmonton Bicycle and Touring Club: Tuesday Social Ride - Villeneuve to Glacier Grn
PRIORITY:5
END:VEVENT
END:VCALENDAR
