BEGIN:VCALENDAR
BEGIN:VEVENT
DTSTART:20260519T190000Z
DTEND:20260519T210000Z
LOCATION:St. Peter Catholic Church, Villeneuve, AB
SEQUENCE:0
TRANSP:TRANSPARENT
CATEGORIES:Karelo\.com Event
DESCRIPTION:%3Cp+dir%3D%22ltr%22%3EToday%26rsquo%3Bs+ride+is+an+out+and+back+34k%2C+with+an+average+pace+of+18%2BKPH.+We+will+meet+in+Villeneuve+at+St.+Peter%26rsquo%3Bs+Catholic+Church+parking+lot+at+10%3A45+for+a+prompt+11%3A00+start.+We+will+be+traveling+west+until+we+reach+RR+274+then+go+toward+Calahoo.+We+will+take+a+short+break+at+the+country+store%2C+snacks+and+drinks+available+for+purchase%2C+but...
SUMMARY:Edmonton Bicycle and Touring Club: Tuesday Social Ride - Villeneuve to Calahoo
PRIORITY:5
END:VEVENT
END:VCALENDAR
