BEGIN:VCALENDAR
BEGIN:VEVENT
DTSTART:20260612T230000Z
DTEND:20260613T030000Z
LOCATION:
SEQUENCE:0
TRANSP:TRANSPARENT
CATEGORIES:Karelo\.com Event
DESCRIPTION:%3Cp%3ECoquitlam+Youth+Orchestra+Concerto+Competition%3C%2Fp%3E%3Cp%3EThe+concerto+competition+for+the+members+of+the+Intermediate+and+Senior+Orchestras+will+be+on+June+12+2026+between+4+-+7+pm+at+the+Evergreen+Cultural+Centre+Rehearsal+Hall.+This+is+only+for+the+current+members+of+the+Coquitlam+Youth+Orchestra+%28CYO%29.%3C%2Fp%3E%3Cp%3EThe+winner+for+each+orchestra+will+play+their+concerto+...
SUMMARY:Coquitlam Youth Orchestra: CYO Concerto Competition 2026
PRIORITY:5
END:VEVENT
END:VCALENDAR
