BEGIN:VCALENDAR
BEGIN:VEVENT
DTSTART:20260515T160000Z
DTEND:20260515T190000Z
LOCATION:Ardrossan Recreation Complex, Strathcona County, AB
SEQUENCE:0
TRANSP:TRANSPARENT
CATEGORIES:Karelo\.com Event
DESCRIPTION:%3Cp+dir%3D%22ltr%22%3EThese+Friday+rides+are+no+drop+%28regroup+at+corners%2C+stop+signs%2C+etc.%29.+We+also+plan+a+break+during+or+after+the+ride.%3C%2Fp%3E%3Cp%3E%3Cstrong%3ELocation%3A%3C%2Fstrong%3E+Meet+at+the+Ardrossan+Recreation+%28parking+lot+at+back+by+the+skate+park%29+at+9%3A45+for+a+10%3A00+a.m.+start.%3C%2Fp%3E%3Cp%3E%3Cstrong%3EDescription%3A%3C%2Fstrong%3E+We+will+ride+south+a...
SUMMARY:Edmonton Bicycle and Touring Club: Friday Quiet Roads
PRIORITY:5
END:VEVENT
END:VCALENDAR
