BEGIN:VCALENDAR
BEGIN:VEVENT
DTSTART:20260508T160000Z
DTEND:20260508T190000Z
LOCATION:199 St. and Lessard Rd., Edmonton, AB
SEQUENCE:0
TRANSP:TRANSPARENT
CATEGORIES:Karelo\.com Event
DESCRIPTION:%3Cp+dir%3D%22ltr%22%3EThese+Friday+social+rides+are+no+drop+with+regular+group+ups+at+corners%2C+landmarks%2C+etc.%3C%2Fp%3E%3Cp%3E%3Cstrong%3ELocation%3A%3C%2Fstrong%3E+Meet+at+Tim+Hortons+on+199+St.+and+Lessard+Rd.+%28that%27s+west+of+the+Anthony+Henday%29+at+9%3A45+for+a+10%3A00+a.m.+start.++We%27ll+have+coffee+at+Tim+Hortons+when+we+return+so+bring+sufficient+water+and%2C+if+you+wish%2C+...
SUMMARY:Edmonton Bicycle and Touring Club: Friday Quiet Roads
PRIORITY:5
END:VEVENT
END:VCALENDAR
