BEGIN:VCALENDAR
BEGIN:VEVENT
DTSTART:20260514T170000Z
DTEND:20260514T180000Z
LOCATION:Vancouver, BC
SEQUENCE:0
TRANSP:TRANSPARENT
CATEGORIES:Karelo\.com Event
DESCRIPTION:%3Cdiv+style%3D%22box-sizing%3A+border-box%3B+text-align%3A+center%3B%22%3E%3Cimg+alt%3D%22%22+src%3D%22https%3A%2F%2Fwww.karelo.com%2Fuploads%2FKC32%2FBID212%2Fimages%2FGemini_Generated_Image_yrnsvqyrnsvqyrns.png%22+style%3D%22height%3A225px%3B+width%3A400px%22+%2F%3E%3C%2Fdiv%3E%3Cdiv+style%3D%22box-sizing%3A+border-box%3B+text-align%3A+center%3B%22%3E+%3C%2Fdiv%3E%3Cdiv+style%3D%22box-sizi...
SUMMARY:Construction Specifications Canada - Van. Chapter: Vancouver Chapter Annual Chapter Meeting
PRIORITY:5
END:VEVENT
END:VCALENDAR
