BEGIN:VCALENDAR
BEGIN:VEVENT
DTSTART:20260502T160000Z
DTEND:20260502T180000Z
LOCATION:Sunterra Market, Edmonton, AB
SEQUENCE:0
TRANSP:TRANSPARENT
CATEGORIES:Karelo\.com Event
DESCRIPTION:%3Cp%3E%3Cstrong%3EShort+%26rsquo%3BN+Sweet%3C%2Fstrong%3E+is+a+relaxed+Saturday+morning+ride+of+20+to+30+km%2C+using+paved+pathways+and+quieter+roads+while+avoiding+hills+whenever+possible.+No+group-riding+experience+is+required%2C+but+riders+should+be+comfortable+maintaining+an+average+speed+of+approximately+15+km%2Fh+and+following+road+safety+rules.+This+is+a+no-drop+ride%2C+and+we+aim+to+...
SUMMARY:Edmonton Bicycle and Touring Club: Short ‘N Sweet
PRIORITY:5
END:VEVENT
END:VCALENDAR
