BEGIN:VCALENDAR
BEGIN:VEVENT
DTSTART:20260810T160000Z
DTEND:20260810T160000Z
LOCATION:6090 Prince Albert St., Vancouver, BC
SEQUENCE:0
TRANSP:TRANSPARENT
CATEGORIES:Karelo\.com Event
DESCRIPTION:%0D%0A
SUMMARY:Coerver Coaching: Memorial Skills Camp U8 and Older, 9:00am-noon Aug. 10-14
PRIORITY:5
END:VEVENT
END:VCALENDAR
