BEGIN:VCALENDAR
BEGIN:VEVENT
DTSTART:20260831T160000Z
DTEND:20260831T160000Z
LOCATION:22008 124 Ave, Maple Ridge, BC
SEQUENCE:0
TRANSP:TRANSPARENT
CATEGORIES:Karelo\.com Event
DESCRIPTION:%0D%0A
SUMMARY:Coerver Coaching: Maple Ridge LeBlanc Turf Skills Camp U8 and older, 9:00am-noon Aug. 31-Sept 4
PRIORITY:5
END:VEVENT
END:VCALENDAR
